Workbook

Sheet ผนวก ก 
A1: ผนวก ก
A2: การปรับแต่งหลักสูตรตามโครงการศึกษาและอบรมข้าราชการตามสถานศึกษาในประเทศ นอก ทร. ประจำปี งป.๖๓ ของ ชย.ทร. ครั้งที่ ๒
A4: รายละเอียดโครงการศึกษา ฯ ที่ปรับเปลี่ยนครั้งที่ ๑ | H4: รายละเอียดโครงการศึกษา ฯ ที่ปรับเปลี่ยนครั้งที่ ๒ | N4: หมายเหตุ
A5: ลำดับ | B5: รายละเอียดหลักสูตร | D5: หน่วยเปิด | E5: วงเงิน | F5: เบี้ยเลี้ยง | G5: หมายเหตุ | H5: ลำดับ | I5: รายละเอียดหลักสูตร | K5: หน่วยเปิด | L5: วงเงิน | M5: เบี้ยเลี้ยง
D6: หลักสูตร | E6: (บาท) | F6: เดินทาง | K6: หลักสูตร | L6: (บาท) | M6: เดินทาง
A7: 1 | B7: เทคนิคการออกแบบรายการก่อสร้างโดยใช้โปรแกรมคอมพิวเตอร์ - ระยะเวลา ๑ วัน - ร.ต. - น.อ.(พ) จำนวน ๒ นาย | D7: วิศวกรรมสถาน แห่งประเทศไทย | E7: 10000 | F7: 0 | G7: - | H7: 1 | I7: การประยุกต์การใช้โปรแกรม | K7: ศูนย์การอบรม | L7: ='ผนวก ข'!H7 -> 4500 | M7: 0 | N7: - ปรับเปลี่ยน
B8: และทำรายการคำนวณเพื่อยื่น | I8: ETABS (v.18) เพื่อการออกแบบ | K8: และสัมมนา | N8: หลักสูตร
B9: ขออนุญาตก่อสร้างโดยใช้ | I9: อย่างมืออาชีพ รุ่นที่ ๑๒ | K9: ทางวิศวกรรม | N9: - ปรับเปลี่ยน
B10: โปรแกรมคอมพิวเตอร์ | I10: - ระยะเวลา ๒ วัน | K10: TumCivil.com | N10: วงเงิน
B11: - ระยะเวลา ๑ วัน | I11: - ร.ต. - น.อ.(พ) | K11: Traning Center | N11: - ปรับเปลี่ยน
B12: - ร.ต. - น.อ.(พ) | I12: จำนวน ๑ นาย | N12: ชั้นยศของ
B13: จำนวน ๒ นาย | N13: ผู้เข้าอบรม
A14: 2 | B14: การตัดต่อวิดีโอด้วยโปรแกรม | D14: ศูนย์อบรม ไอที เอคซะเล้นท์ | E14: 16800 | F14: 0 | G14: - | H14: 2 | I14: การตัดต่อวิดีโอด้วยโปรแกรม | K14: ศูนย์อบรม ไอที เอคซะเล้นท์ | L14: ='ผนวก ข'!H11 -> 16800 | M14: 0 | N14: - อนุมัติ
B15: Permiere Pro Video Editing | D15: คอมพิวเตอร์ | I15: Permiere Pro Video Editing | K15: คอมพิวเตอร์ | N15: ตัวบุคคลเข้า
B16: & After Effect | D16: ไอทีเอคซะเล้นท์ | I16: & After Effect | K16: ไอทีเอคซะเล้นท์ | N16: อบรมแล้ว
B17: - ระยะเวลา ๓ วัน | I17: - ระยะเวลา ๓ วัน | N17: เป็นลำดับที่ ๑
B18: - จ.อ. - น.อ.(พ) | I18: - จ.อ. - น.อ.(พ)
B19: จำนวน ๓ นาย | I19: จำนวน ๓ นาย
A21: 3 | B21: การตรวจสอบรอยร้าวและ | D21: วิศวกรรมสถาน | E21: 10000 | F21: 0 | G21: - | H21: 3 | I21: การออกแบบระบบรักษาความ | K21: สมาคมวิศวกร | L21: ='ผนวก ข'!H20 -> 6848 | M21: 0 | N21: - ปรับเปลี่ยน
B22: การซ่อมเสริมกำลังอาคาร | D22: แห่งประเทศไทย | I22: ปลอดภัย-ระบบกล้องโทรทัศน์ | K22: ที่ปรึกษาเครื่องกล | N22: หลักสูตร
B23: - ระยะเวลา ๑ วัน | I23: วงจรปิด (CCTV System Design) | K23: และไฟฟ้าไทย | N23: - ปรับเปลี่ยน
B24: - ร.ต. - น.อ.(พ) | I24: - ระยะเวลา ๑ วัน | N24: วงเงิน
B25: จำนวน ๒ นาย | I25: - ร.ต. - น.อ.(พ)
I26: จำนวน ๒ นาย
A28: ผนวก ก
A29: การปรับแต่งหลักสูตรตามโครงการศึกษาและอบรมข้าราชการตามสถานศึกษาในประเทศ นอก ทร. ประจำปี งป.๖๓ ของ ชย.ทร. ครั้งที่ ๒
A31: รายละเอียดโครงการศึกษา ฯ ที่ปรับเปลี่ยนครั้งที่ ๑ | H31: รายละเอียดโครงการศึกษา ฯ ที่ปรับเปลี่ยนครั้งที่ ๒ | N31: หมายเหตุ
A32: ลำดับ | B32: รายละเอียดหลักสูตร | D32: หน่วยเปิด | E32: วงเงิน | F32: เบี้ยเลี้ยง | G32: หมายเหตุ | H32: ลำดับ | I32: รายละเอียดหลักสูตร | K32: หน่วยเปิด | L32: วงเงิน | M32: เบี้ยเลี้ยง
D33: หลักสูตร | E33: (บาท) | F33: เดินทาง | K33: หลักสูตร | L33: (บาท) | M33: เดินทาง
A34: 4 | B34: การประมาณราคากลาง | D34: วิศวกรรมสถาน | E34: 12000 | F34: 0 | G34: - | H34: 4 | I34: การออกแบบและการเลือกใช้และ | K34: สถาบันวิศวพัฒน์ | L34: ='ผนวก ข'!H26 -> 3000 | M34: 0 | N34: - ปรับเปลี่ยน
B35: งานราชการ | D35: แห่งประเทศไทย | I35: การบำรุงรักษาเครื่องสูบส่งน้ำ | K35: วิศวกรรมสถาน | N35: หลักสูตร
B36: - ระยะเวลา ๒ วัน | I36: ในระบบบำบัดน้ำเสีย | K36: แห่งประเทศไทย | N36: - ปรับเปลี่ยน
B37: - ร.ต. - น.อ.(พ) | I37: - ระยะเวลา ๑ วัน | K37: ในพระบรม | N37: วงเงิน
B38: จำนวน ๒ นาย | I38: - ร.ต. - น.อ.(พ) | K38: ราชูปถัมภ์ (วสท.)
I39: จำนวน ๑ นาย
A40: 5 | B40: การคำนวณออกแบบโครงสร้าง | D40: สมาคมคอนกรีต | E40: 7000 | F40: 0 | G40: - | H40: 5 | I40: คอร์ส Basic Graphic พื้นฐาน | K40: บริษัท แพนด้า | L40: ='ผนวก ข'!H37 -> 5690 | M40: 0 | N40: - ปรับเปลี่ยน
B41: คอนกรีตเสริมเหล็กโดยวิธี | D41: แห่งประเทศไทย | I41: เบื้องต้น | K41: ดีไซน์ สตูดิโอ | N41: หลักสูตร
B42: หน่วยแรงใช้งานและวิธีกำลัง | I42: - ระยะเวลา ๒ วัน | K42: จำกัด | N42: - ปรับเปลี่ยน
B43: (ขั้นพื้นฐาน) | I43: - ร.ต. - น.อ.(พ) | N43: วงเงิน
B44: - ระยะเวลา ๑ วัน | I44: จำนวน ๑ นาย
B45: - ร.ต. - น.อ.(พ)
B46: จำนวน ๒ นาย
A47: 6 | B47: ระบบข่ายสายสัญญาณ LAN | D47: สมาคมวิศวกร | E47: 6848 | F47: 0 | G47: - | H47: 6 | I47: โครงการอบรมเชิงวิชาการเรื่อง | K47: วิศวกรรมสถาน | L47: ='ผนวก ข'!H41 -> 6000 | M47: 0 | N47: - ปรับเปลี่ยน
B48: และ FIBER OPTIC | D48: ที่ปรึกษา | I48: "องค์ความรู้ในงานวิศวกรรม | K48: แห่งประเทศไทย | N48: หลักสูตร
B49: สำหรับโครงสร้างพื้นฐาน | D49: เครื่องกลและ | I49: ปฐพีและการนำไปประยุกต์ใช้" | K49: ในพระบรม | N49: - ปรับเปลี่ยน
B50: ของอาคารสมัยใหม่ | D50: ไฟฟ้าไทย | I50: รุ่นที่ ๕ | K50: ราชูปถัมภ์ (วสท.) | N50: วงเงิน
B51: - ระยะเวลา ๒ วัน | I51: - ระยะเวลา ๓ วัน
B52: - ร.ต. - น.อ.(พ) | I52: - ร.ต. - น.อ.(พ)
B53: จำนวน ๒ นาย | I53: จำนวน ๑ นาย
A55: ผนวก ก
A56: การปรับแต่งหลักสูตรตามโครงการศึกษาและอบรมข้าราชการตามสถานศึกษาในประเทศ นอก ทร. ประจำปี งป.๖๓ ของ ชย.ทร. ครั้งที่ ๒
A58: รายละเอียดโครงการศึกษา ฯ ที่ปรับเปลี่ยนครั้งที่ ๑ | H58: รายละเอียดโครงการศึกษา ฯ ที่ปรับเปลี่ยนครั้งที่ ๒ | N58: หมายเหตุ
A59: ลำดับ | B59: รายละเอียดหลักสูตร | D59: หน่วยเปิด | E59: วงเงิน | F59: เบี้ยเลี้ยง | G59: หมายเหตุ | H59: ลำดับ | I59: รายละเอียดหลักสูตร | K59: หน่วยเปิด | L59: วงเงิน | M59: เบี้ยเลี้ยง
D60: หลักสูตร | E60: (บาท) | F60: เดินทาง | K60: หลักสูตร | L60: (บาท) | M60: เดินทาง
A61: 7 | B61: ระบบกำลังไฟฟ้าต่อเนื่อง | D61: สมาคมวิศวกร | E61: 11770 | F61: 0 | G61: - | H61: 7 | I61: การใช้งาน Excel ระดับสูง Excel | K61: ศูนย์อบรม | L61: ='ผนวก ข'!H46 -> 5900 | M61: 0 | N61: - ปรับเปลี่ยน
B62: (ยูพีเอส) และการต่อลงดิน | D62: ที่ปรึกษา | I62: VBA และ Macro | K62: คอมพิวเตอร์ | N62: หลักสูตร
B63: - ระยะเวลา ๒ วัน | D63: เครื่องกลและ | I63: - ระยะเวลา ๒ วัน | K63: ไอทีเอคซะเล้นท์ | N63: - ปรับเปลี่ยน
B64: - ร.ต. - น.อ.(พ) | D64: ไฟฟ้าไทย | I64: - ร.ต. - น.อ.(พ) | N64: วงเงิน
B65: จำนวน ๒ นาย | I65: จำนวน ๑ นาย
A67: 8 | B67: การต่อลงดินและการป้องกัน | D67: สมาคมวิศวกรที่ | E67: 11770 | F67: 0 | G67: - | H67: 8 | I67: โครงการอบรมหลักสูตรผู้เชี่ยวชาญ | K67: สถาบันอาคาร | L67: ='ผนวก ข'!H49 -> 16050 | M67: 0 | N67: - ปรับเปลี่ยน
B68: ฟ้าผ่าระบบโทรคมนาคม | D68: ปรึกษาเครื่องกล | I68: อาคารเขียว TREES EB รุ่นที่ ๖ | K68: เขียวไทย | N68: หลักสูตร
B69: - ระยะเวลา ๒ วัน | D69: และไฟฟ้าไทย | I69: - ระยะเวลา ๒ วัน | N69: - ปรับเปลี่ยน
B70: - ร.ต. - น.อ.(พ) | I70: - ร.ต. - น.อ.(พ) | N70: วงเงิน
B71: จำนวน ๒ นาย | I71: จำนวน ๓ นาย
A73: 9 | B73: การคำนวนและออกแบบ | D73: ศูนย์อบรมและ | E73: 10000 | F73: 0 | G73: - | H73: 9 | I73: การอบรมเรื่อง มาตรฐานการ | K73: วิศวกรรมสถาน | L73: ='ผนวก ข'!H67 -> 7000 | M73: 0 | N73: - ปรับเปลี่ยน
B74: อาคารโรงงาน และบ้านพักอาศัย | D74: สัมมนาทาง | I74: ป้องกันฟ้าผ่า(ภายนอกและภายใน) | K74: แห่งประเทศไทย | N74: หลักสูตร
B75: (การประยุกต์ใช้งานจริง) | D75: วิศวกรรม | I75: รุ่นที่ ๒ | K75: ในพระบรม | N75: - ปรับเปลี่ยน
B76: - ระยะเวลา ๒ วัน | D76: TumCivil.com | I76: - ระยะเวลา ๒ วัน | K76: ราชูปถัมภ์ (วสท.) | N76: วงเงิน
B77: - ร.ต. - น.อ.(พ) | D77: Tranning | I77: - ร.ต. - น.อ.(พ)
B78: จำนวน ๒ นาย | D78: Center | I78: จำนวน ๒ นาย
A82: ผนวก ก
A83: การปรับแต่งหลักสูตรตามโครงการศึกษาและอบรมข้าราชการตามสถานศึกษาในประเทศ นอก ทร. ประจำปี งป.๖๓ ของ ชย.ทร. ครั้งที่ ๒
A85: รายละเอียดโครงการศึกษา ฯ ที่ปรับเปลี่ยนครั้งที่ ๑ | H85: รายละเอียดโครงการศึกษา ฯ ที่ปรับเปลี่ยนครั้งที่ ๒ | N85: หมายเหตุ
A86: ลำดับ | B86: รายละเอียดหลักสูตร | D86: หน่วยเปิด | E86: วงเงิน | F86: เบี้ยเลี้ยง | G86: หมายเหตุ | H86: ลำดับ | I86: รายละเอียดหลักสูตร | K86: หน่วยเปิด | L86: วงเงิน | M86: เบี้ยเลี้ยง
D87: หลักสูตร | E87: (บาท) | F87: เดินทาง | K87: หลักสูตร | L87: (บาท) | M87: เดินทาง
A88: 10 | B88: การวิเคราะห์ออกแบบโครงสร้าง | D88: ศูนย์อบรมและ | E88: 10000 | F88: 0 | G88: - | H88: 10 | I88: การออกแบบอาคารโรงงาน | K88: สถาบันวิศวพัฒน์ | L88: ='ผนวก ข'!H73 -> 18000 | M88: 0 | N88: - ปรับเปลี่ยน
B89: ด้วยโปรแกรม MIDAS GEN | D89: สัมมนาทาง | I89: โครงสร้างเหล็ก ระบบ Rigid | K89: วิศวกรรมสถาน | N89: หลักสูตร
B90: และ Design Plus 2015 | D90: วิศวกรรม | I90: Frame ขั้นพื้นฐาน รุ่นที่ ๕ | K90: แห่งประเทศไทย | N90: - ปรับเปลี่ยน
B91: - ระยะเวลา ๒ วัน | D91: TumCivil.com | I91: - ระยะเวลา ๔ วัน | K91: ในพระบรม | N91: วงเงิน
B92: - ร.ต. - น.อ.(พ) | D92: Tranning | I92: - ร.ต. - น.อ.(พ) | K92: ราชูปถัมภ์ (วสท.)
B93: จำนวน ๒ นาย | D93: Center | I93: จำนวน ๒ นาย
A95: 11 | B95: มาตรฐานดาต้าเซนเตอร์ | D95: มาตรฐานดาต้า | E95: 40000 | F95: 0 | G95: - | H95: 11 | I95: พัฒนาเว็บไซต์แบบมืออาชีพด้วย | K95: ศูนย์อบรม | L95: ='ผนวก ข'!H82 -> 22500 | M95: 0 | N95: - ปรับเปลี่ยน
B96: สำหรับประเทศไทย | D96: เซนเตอร์สำหรับ | I96: PHP พร้อมติดต่อ ฐานข้อมูล | K96: คอมพิวเตอร์ | N96: หลักสูตร
B97: - ระยะเวลา ๕ วัน | D97: ประเทศไทย | I97: MySQL | K97: ไอทีเอคซะเล้นท์ | N97: - ปรับเปลี่ยน
B98: - ร.ต. - น.อ.(พ) | I98: - ระยะเวลา ๕ วัน | N98: วงเงิน
B99: จำนวน ๒ นาย | I99: - จ.อ. - น.อ.(พ) | N99: - ปรับเปลี่ยน
I100: จำนวน ๓ นาย | N100: ชั้นยศผู้เข้าอบรม
H101: 12 | I101: การออกแบบ พื้นคอนกรีตอัดแรง | K101: ประเทศไทย | L101: ='ผนวก ข'!H94 -> 4500 | M101: 0 | N101: - ปรับเปลี่ยน
I102: ไร้คาน (Design of Post | K102: ในพระบรม | N102: หลักสูตร
I103: - tensioned Flat Slab) รุ่นที่ ๖ | K103: ราชูปถัมภ์ (วสท.) | N103: - ปรับเปลี่ยน
I104: - ระยะเวลา ๒ วัน | N104: วงเงิน
I105: - ร.ต. - น.อ.(พ)
I106: จำนวน ๑ นาย
A109: ผนวก ก
A110: การปรับแต่งหลักสูตรตามโครงการศึกษาและอบรมข้าราชการตามสถานศึกษาในประเทศ นอก ทร. ประจำปี งป.๖๓ ของ ชย.ทร. ครั้งที่ ๒
A112: รายละเอียดโครงการศึกษา ฯ ที่ปรับเปลี่ยนครั้งที่ ๑ | H112: รายละเอียดโครงการศึกษา ฯ ที่ปรับเปลี่ยนครั้งที่ ๒ | N112: หมายเหตุ
A113: ลำดับ | B113: รายละเอียดหลักสูตร | D113: หน่วยเปิด | E113: วงเงิน | F113: เบี้ยเลี้ยง | G113: หมายเหตุ | H113: ลำดับ | I113: รายละเอียดหลักสูตร | K113: หน่วยเปิด | L113: วงเงิน | M113: เบี้ยเลี้ยง
D114: หลักสูตร | E114: (บาท) | F114: เดินทาง | K114: หลักสูตร | L114: (บาท) | M114: เดินทาง
H115: 13 | I115: โปรแกรมออฟฟิศ Word, Excel, | K115: ศูนย์อบรม | L115: ='ผนวก ข'!H99 -> 19500 | M115: 0 | N115: - ปรับเปลี่ยน
I116: Power Point ระดับกลาง ถึง | K116: คอมพิวเตอร์ | N116: หลักสูตร
...

Sheet ผนวก ข
A2: ผนวก
A3: การจัดส่งข้าราชการเข้าอบรมตามสถานศึกษาในประเทศ นอก ทร. ประจำปี งป.๖๓ ของ ชย.ทร. ตามการปรับแต่งหลักสูตร ฯ ครั้งที่ ๒
A5: ลำดับ | B5: หลักสูตร | D5: หน่วยเปิด | E5: ชั้นยศ | F5: ค่าใช้จ่าย | G5: จำนวน | H5: วงเงินรวม | I5: ผู้เข้าอบรม | J5: กำหนดเวลา | K5: หมายเหตุ
D6: หลักสูตร | F6: (ต่อนาย) | G6: (นาย) | H6: (บาท)
A7: 1 | B7: การประยุกต์การใช้โปรแกรม | D7: ศูนย์การอบรมและ | E7: ร.ต. | F7: 4500 | G7: 1 | H7: =F7*G7 -> 4500 | I7: ๑. ร.อ.บัณฑิตย์ บุญพันธุ์ | J7: ๒๒ - ๒๓ ส.ค.๖๓ | K7: - ปรับเปลี่ยนหลักสูตร
B8: ETABS (v.18) เพื่อการออกแบบ | D8: สัมมนาทางวิศวกรรม | E8: - | I8: ตำแหน่ง รรก.นายช่างแผนก | J8: (๒ วัน) | K8: - ปรับเปลี่ยนวงเงิน
B9: อย่างมืออาชีพ รุ่นที่ ๑๒ | D9: TumCivil.com | E9: น.อ.(พ) | I9: ออกแบบโยธาและสุขาภิบาล
D10: Traning Center | I10: กอบ.ชย.ทร.
A11: 2 | B11: การตัดต่อวิดีโอด้วยโปรแกรม | D11: ศูนย์อบรม ไอที เอคซะเล้นท์ | E11: จ.อ. | F11: 5600 | G11: 3 | H11: =F11*G11 -> 16800 | I11: ๑. น.อ.สมนึก พงษ์สิน | J11: ๑๔,๒๑,๒๘ | K11: - อนุมัติตัวบุคคล
B12: Permiere Pro Video Editing | D12: คอมพิวเตอร์ | E12: - | I12: ตำแหน่ง หน.ส่งกำลังบำรุง กผค.ชย.ทร. | J12: ก.พ.๖๓ | K12: เข้าอบรมแล้ว
B13: & After Effect | D13: ไอทีเอคซะเล้นท์ | E13: น.อ.(พ) | I13: ๒. พ.จ.อ.วรรณชัย ธรรมอินทร์ลาด | J13: (๓ วัน) | K13: เป็น ลำดับที่ ๑
I14: ตำแหน่ง ช่างเขียนแบบ แผนกโยธา
I15: ๓. จ.อ.ปฎิวัติ พละวงศ์
I16: ตำแหน่ง จนท.ตรวจสอบและคุมบัตร
I17: มว.ควบคุมและทดสอบ แผนกพัสดุช่าง
I18: กพสด.ชย.ทร.
A20: 3 | B20: การออกแบบระบบรักษาความ | D20: สมาคมวิศวกร | E20: ร.ต. | F20: =3424 -> 3424 | G20: 2 | H20: =F20*G20 -> 6848 | I20: ๑. น.อ.สภารัฐ พงษ์พานิช | J20: ๒๖ ส.ค.๖๓ | K20: - ปรับเปลี่ยนหลักสูตร
B21: ปลอดภัย - ระบบกล้องโทรทัศน์ | D21: ที่ปรึกษาเครื่องกล | E21: - | I21: ตำแหน่ง หน.ไฟฟ้าและเครื่องกล | J21: (๑ วัน) | K21: - ปรับเปลี่ยนวงเงิน
B22: วงจรปิด (CCTV System Design) | D22: และไฟฟ้าไทย | E22: น.อ.(พ) | I22: กอบ.ชย.ทร.
I23: ๒. น.ท.อนวัช วรรณศรี
I24: นายช่างแผนกไฟฟ้าและเครื่องกล
I25: กอบ.ชย.ทร.
A26: 4 | B26: การออกแบบและการเลือกใช้และ | D26: สถาบันวิศวพัฒน์ | E26: ร.ต. | F26: 3000 | G26: 1 | H26: =F26*G26 -> 3000 | I26: ๑. น.ท.สายันต์ ทองแสน | J26: ๒๗ ส.ค.๖๓ | K26: - ปรับเปลี่ยนหลักสูตร
B27: การบำรุงรักษาเครื่องสูบส่งน้ำ | D27: วิศวกรรมสถานแห่ง | E27: - | I27: ตำแหน่ง นายช่างแผนกโยธา | J27: (๑ วัน) | K27: - ปรับเปลี่ยนวงเงิน
B28: ในระบบบำบัดน้ำเสีย | D28: ประเทศไทย | E28: น.อ.(พ) | I28: และสุขาภิบาล กอบ.ชย.ทร.
D29: ในพระบรมราชูปถัมภ์
D30: (วสท.)
A32: ผนวก
A33: การจัดส่งข้าราชการเข้าอบรมตามสถานศึกษาในประเทศ นอก ทร. ประจำปี งป.๖๓ ของ ชย.ทร. ตามการปรับแต่งหลักสูตร ฯ ครั้งที่ ๒
A35: ลำดับ | B35: หลักสูตร | D35: หน่วยเปิด | E35: ชั้นยศ | F35: ค่าใช้จ่าย | G35: จำนวน | H35: วงเงินรวม | I35: ผู้เข้าอบรม | J35: กำหนดเวลา | K35: หมายเหตุ
D36: หลักสูตร | F36: (ต่อนาย) | G36: (นาย) | H36: (บาท)
A37: 5 | B37: คอร์ส Basic Graphic พื้นฐาน | D37: บริษัท แพนด้าดีไซน์ | E37: ร.ต. | F37: 5690 | G37: 1 | H37: =F37*G37 -> 5690 | I37: ๑. ร.อ.หญิงสุนิสา กรวยทรัพย์ | J37: ๒๗ - ๒๘ ส.ค.๖๓ | K37: - ปรับเปลี่ยนหลักสูตร
B38: เบื้องต้น | D38: สตูดิโอ จำกัด | E38: - | I38: ตำแหน่ง รรก.นายช่างแผนกวิทยาการ | J38: (๒ วัน) | K38: - ปรับเปลี่ยนวงเงิน
E39: น.อ.(พ) | I39: กวก.ชย.ทร.
A41: 6 | B41: โครงการอบรมเชิงวิชาการเรื่อง | D41: วิศวกรรมสถานแห่ง | E41: ร.ต. | F41: 6000 | G41: 1 | H41: =F41*G41 -> 6000 | I41: ๑. ร.ท.พีรศุษม์ ศฤงคาร | J41: ๒๗ - ๒๙ ส.ค.๖๓ | K41: - ปรับเปลี่ยนหลักสูตร
B42: "องค์ความรู้ในงานวิศวกรรม | D42: ประเทศไทย | E42: - | I42: ตำแหน่ง รรก.นายช่าง แผนกโยธา | J42: (๓ วัน) | K42: - ปรับเปลี่ยนวงเงิน
B43: ปฐพีและการนำไปประยุกต์ใช้" | D43: ในพระบรมราชูปถัมภ์ | E43: น.อ.(พ) | I43: และสุขาภิบาล กอบ.ชย.ทร.
B44: รุ่นที่ ๕ | D44: (วสท.)
A46: 7 | B46: การใช้งาน Excel ระดับสูง Excel | D46: ศูนย์อบรมคอมพิวเตอร์ | E46: ร.ต. | F46: 5900 | G46: 1 | H46: =F46*G46 -> 5900 | I46: ๑. น.อ.ประจักษ์ สกุลพรรณ์ | J46: ๑ - ๒ ก.ย.๖๓ | K46: - ปรับเปลี่ยนหลักสูตร
B47: VBA และ Macro | D47: ไอทีเอคซะเล้นท์ | E47: - | I47: ตำแหน่ง หก.กวก.ชย.ทร. | J47: (๒ วัน) | K47: - ปรับเปลี่ยนวงเงิน
E48: น.อ.(พ)
A49: 8 | B49: โครงการอบรมหลักสูตรผู้เชี่ยวชาญ | D49: สถาบันอาคารเขียวไทย | E49: ร.ต. | F49: =5350 -> 5350 | G49: 3 | H49: =F49*G49 -> 16050 | I49: ๑. น.ท.หญิงณัฐกานต์ เกษประทุม | J49: ๒ - ๓ ก.ย.๖๓ | K49: - ปรับเปลี่ยนหลักสูตร
B50: อาคารเขียว TREES EB รุ่นที่ ๖ | E50: - | I50: ตำแหน่ง นายช่างแผนกอาคาร | J50: (๒ วัน) | K50: - ปรับเปลี่ยนวงเงิน
E51: น.อ.(พ) | I51: และผังหลัก กอบ.ชย.ทร.
I52: ๒. ร.อ.หญิงจิตพร ภูวนาถนรานุบาล
I53: ตำแหน่ง รรก.นายช่างแผนกอาคาร
I54: และผังหลัก กอบ.ชย.ทร.
I55: ๓. ว่าที่ ร.ท.หญิงกษีระ พรหมเดช
I56: ตำแหน่ง รรก.นายช่างแผนกพัฒนา
I57: ระบบงานช่าง กวก.ชย.ทร.
I58: ช่วยปฎิบัติราชการ แผนกอาคาร
I59: และผังหลัก กอบ.ชย.ทร.
A62: ผนวก
A63: การจัดส่งข้าราชการเข้าอบรมตามสถานศึกษาในประเทศ นอก ทร. ประจำปี งป.๖๓ ของ ชย.ทร. ตามการปรับแต่งหลักสูตร ฯ ครั้งที่ ๒
A65: ลำดับ | B65: หลักสูตร | D65: หน่วยเปิด | E65: ชั้นยศ | F65: ค่าใช้จ่าย | G65: จำนวน | H65: วงเงินรวม | I65: ผู้เข้าอบรม | J65: กำหนดเวลา | K65: หมายเหตุ
D66: หลักสูตร | F66: (ต่อนาย) | G66: (นาย) | H66: (บาท)
A67: 9 | B67: การอบรมเรื่อง มาตรฐานการ | D67: วิศวกรรมสถานแห่ง | E67: ร.ต. | F67: =3500 -> 3500 | G67: 2 | H67: =F67*G67 -> 7000 | I67: ๑. น.อ.สภารัฐ พงษ์พานิช | J67: ๓ - ๔ ก.ย.๖๓ | K67: - ปรับเปลี่ยนหลักสูตร
B68: ป้องกันฟ้าผ่า(ภายนอกและภายใน) | D68: ประเทศไทย | E68: - | I68: ตำแหน่ง หน.ไฟฟ้าและเครื่องกล | J68: (๒ วัน) | K68: - ปรับเปลี่ยนวงเงิน
B69: รุ่นที่ ๒ | D69: ในพระบรมราชูปถัมภ์ | E69: น.อ.(พ) | I69: กอบ.ชย.ทร.
D70: (วสท.) | I70: ๒. ว่าที่ น.ต.ขวัญชัย จันทร์ทอง
I71: ตำแหน่ง นายช่างแผนกไฟฟ้า
I72: และเครื่องกล กอบ.ชย.ทร.
A73: 10 | B73: การออกแบบอาคารโรงงาน | D73: สถาบันวิศวพัฒน์ | E73: ร.ต. | F73: =9000 -> 9000 | G73: 2 | H73: =F73*G73 -> 18000 | I73: ๑. ร.ท.ทวีโชค แสงสุวรรณ์ | J73: ๔ - ๕ ก.ย.๖๓ | K73: - ปรับเปลี่ยนหลักสูตร
B74: โครงสร้างเหล็ก ระบบ Rigid | D74: วิศวกรรมสถานแห่ง | E74: - | I74: ตำแหน่ง รรก.นายช่าง | J74: (๒ วัน) | K74: - ปรับเปลี่ยนวงเงิน
B75: Frame ขั้นพื้นฐาน รุ่นที่ ๕ | D75: ประเทศไทย | E75: น.อ.(พ) | I75: แผนกประมาณการ กอบ.ชย.ทร. | J75: ๒๕ - ๒๖ ก.ย.๖๓
B76: (ตอนที่ ๑ และ ๒) | D76: ในพระบรมราชูปถัมภ์ | I76: ช่วยปฎิบัติราชการ แผนกโยธาและ | J76: (๒ วัน)
D77: (วสท.) | I77: สุขาภิบาล กอบ.ชย.ทร. | J77: รวม ๔ วัน
I78: ๒. ร.ต.ชาญวิทย์ ยาม่วง
I79: ตำแหน่ง รรก.นายทหารแผนงาน
I80: กงย.ชย.ทร. ช่วยปฎิบัติราชการ
I81: แผนกโยธาและสุขาภิบาล กอบ.ชย.ทร.
A82: 11 | B82: พัฒนาเว็บไซต์แบบมืออาชีพ | D82: ศูนย์อบรมคอมพิวเตอร์ | E82: จ.อ. | F82: 7500 | G82: 3 | H82: =F82*G82 -> 22500 | I82: ๑. น.อ.สมนึก พงษ์สิน | J82: ๗ - ๑๑ ก.ย.๖๓ | K82: - ปรับเปลี่ยนหลักสูตร
B83: ด้วย PHP พร้อมติดต่อ ฐานข้อมูล | D83: ไอทีเอคซะเล้นท์ | E83: - | I83: ตำแหน่ง หน.ส่งกำลังบำรุง กผค.ชย.ทร. | J83: (๕ วัน) | K83: - ปรับเปลี่ยนวงเงิน
B84: MySQL | E84: น.อ.(พ) | I84: ๒. พ.จ.อ.วรรณชัย ธรรมอินทร์ลาด | K84: - ปรับเปลี่ยนชั้นยศของ
I85: ตำแหน่ง ช่างเขียนแบบ แผนกโยธา | K85: ผู้เข้าอบรม
I86: และสุขาภิบาล
I87: ๓. จ.อ.อนุชา ระวังงาน
I88: ตำแหน่ง ช่างเขียนแบบ แผนกโยธา
I89: และสุขาภิบาล
A90: ผนวก
A91: การจัดส่งข้าราชการเข้าอบรมตามสถานศึกษาในประเทศ นอก ทร. ประจำปี งป.๖๓ ของ ชย.ทร. ตามการปรับแต่งหลักสูตร ฯ ครั้งที่ ๒
A92: ลำดับ | B92: หลักสูตร | D92: หน่วยเปิด | E92: ชั้นยศ | F92: ค่าใช้จ่าย | G92: จำนวน | H92: วงเงินรวม | I92: ผู้เข้าอบรม | J92: กำหนดเวลา | K92: หมายเหตุ
D93: หลักสูตร | F93: (ต่อนาย) | G93: (นาย) | H93: (บาท)
A94: 12 | B94: การอบรมเชิงวิชาชีพเรื่อง | D94: วิศวกรรมสถานแห่ง | E94: ร.ต. | F94: 4500 | G94: 1 | H94: =F94*G94 -> 4500 | I94: ๑. ว่าที่ ร.ต.ชนะ สินทรัพย์วโรดม | J94: ๑๑ - ๑๒ ก.ย.๖๓ | K94: - ปรับเปลี่ยนหลักสูตร
B95: การออกแบบพื้นคอนกรีตอัดแรง | D95: ประเทศไทย | E95: - | I95: ตำแหน่ง ประจำแผนกยุทธโยธา | J95: (๒ วัน) | K95: - ปรับเปลี่ยนวงเงิน
B96: ไร้คาน (Design of | D96: ในพระบรมราชูปถัมภ์ | E96: น.อ.(พ) | I96: กองบริการ การท่าเรือสัตหีบ
B97: Post - tensioned Flat Slab) | D97: (วสท.) | I97: ช่วยปฎิบัติราชการแผนกโยธา
B98: รุ่นที่ ๖ | I98: และสุขาภิบาล กอบ.ชย.ทร.
A99: 13 | B99: โปรแกรมออฟฟิศ Word, Excel, | D99: ศูนย์อบรมคอมพิวเตอร์ | E99: จ.อ. | F99: 6500 | G99: 3 | H99: =F99*G99 -> 19500 | I99: ๑. น.ท.กานต์ อรัญยกานนท์ | J99: ๑๔ - ๑๖ ก.ย.๖๓ | K99: - ปรับเปลี่ยนหลักสูตร
B100: Power Point ระดับกลาง ถึง | D100: ไอทีเอคซะเล้นท์ | E100: - | I100: ตำแหน่ง นายช่างแผนกอาคาร | J100: (๓ วัน) | K100: - ปรับเปลี่ยนวงเงิน
B101: ระดับสูง | E101: น.อ.(พ) | I101: และผังหลัก กอบ.ชย.ทร. | K101: - ปรับเปลี่ยนชั้นยศของ
I102: ๒. ว่าที่ ร.ต.อนุดิษฐ์ ยอดเสาร์ | K102: ผู้เข้าอบรม
I103: ตำแหน่ง แผนกประมาณการ กอบ.ชย.ทร.
I104: ๓. พ.จ.ต.นรินทร์ ภูลายดอก
I105: ตำแหน่ง ช่างแผนกประมาณการ
I106: กอบ.ชย.ทร.
A107: 14 | B107: การอบรมเรื่อง การเลือกและ | D107: วิศวกรรมสถานแห่ง | E107: ร.ต. | F107: 4500 | G107: 2 | H107: =F107*G107 -> 9000 | I107: ๑. ว่าที่ น.ต.ธีรทัต กงทอง | J107: ๑๙ - ๒๐ ก.ย.๖๓ | K107: - ปรับเปลี่ยนหลักสูตร
B108: การคำนวณระบบควบคุมความชื้น | D108: ประเทศไทย | E108: - | I108: ตำแหน่ง นายช่างแผนกโยธา | J108: (๒ วัน) | K108: - ปรับเปลี่ยนวงเงิน
B109: ในงานปรับอากาศ รุ่นที่ ๑๕ | D109: ในพระบรมราชูปถัมภ์ | E109: น.อ.(พ) | I109: และสุขาภิบาล กอบ.ชย.ทร.
D110: (วสท.) | I110: ๒. ว่าที่ ร.ท.ชนาธิป คำดำ
...

Sheet ผนวก ผลักใช้
A1: ผนวก
A2: รายละเอียดการเบิกผลักใช้เงินยืม ตามการปรับแต่งหลักสูตร ฯ ครั้งที่ ๒
A4: ลำดับ | B4: หลักสูตร | D4: หน่วยเปิด | E4: ค่าใช้จ่าย | F4: เบิกยืม | G4: เบิกผลักใช้ | H4: นำส่งเงินคืน | I4: ผู้เข้าอบรม | J4: กำหนดเวลา | K4: หมายเหตุ
D5: หลักสูตร | E5: (บาท) | F5: (บาท) | G5: (บาท) | H5: (บาท)
A6: 1 | B6: การประยุกต์การใช้โปรแกรม | D6: ศูนย์การอบรมและ | E6: 4500 | F6: =E6 -> 4500 | G6: =F6 -> 4500 | H6: 0 | I6: ๑. ร.อ.บัณฑิตย์ บุญพันธุ์ | J6: ๒๒ - ๒๓ ส.ค.๖๓ | K6: - เบิกยืมตามใบยืมเลขที่'๖/๖๓
B7: ETABS (v.18) เพื่อการออกแบบ | D7: สัมมนาทางวิศวกรรม | I7: ตำแหน่ง รรก.นายช่างแผนก | J7: (๒ วัน) | K7: - ทำการผลักใช้เงินยืมเต็มจำนวน
B8: อย่างมืออาชีพ รุ่นที่ ๑๒ | D8: TumCivil.com | I8: ออกแบบโยธาและสุขาภิบาล
D9: Traning Center | I9: กอบ.ชย.ทร.
A10: 2 | B10: การตัดต่อวิดีโอด้วยโปรแกรม | D10: ศูนย์อบรม | E10: 16800 | F10: 0 | G10: =F10 -> 0 | H10: 0 | I10: ๑. น.อ.สมนึก พงษ์สิน | J10: ๑๔,๒๑,๒๘ | K10: - ไม่ทำการเบิกยืมและ
B11: Permiere Pro Video Editing | D11: คอมพิวเตอร์ | I11: ตำแหน่ง หน.ส่งกำลังบำรุง กผค.ชย.ทร. | J11: ก.พ.๖๓ | K11: ไม่มีการผลักใช้เงินยืม
B12: & After Effect | D12: ไอทีเอคซะเล้นท์ | I12: ๒. พ.จ.อ.วรรณชัย ธรรมอินทร์ลาด | J12: (๓ วัน)
I13: ตำแหน่ง ช่างเขียนแบบ แผนกโยธา
I14: ๓. จ.อ.ปฎิวัติ พละวงศ์
I15: ตำแหน่ง จนท.ตรวจสอบและคุมบัตร
I16: มว.ควบคุมและทดสอบ แผนกพัสดุช่าง
I17: กพสด.ชย.ทร.
A19: 3 | B19: การออกแบบระบบรักษาความ | D19: สมาคมวิศวกร | E19: 6848 | F19: =E19 -> 6848 | G19: =F19 -> 6848 | H19: 0 | I19: ๑. น.อ.สภารัฐ พงษ์พานิช | J19: ๒๖ ส.ค.๖๓ | K19: - เบิกยืมตามใบยืมเลขที่'๖/๖๓
B20: ปลอดภัย - ระบบกล้องโทรทัศน์ | D20: ที่ปรึกษาเครื่องกล | I20: ตำแหน่ง หน.ไฟฟ้าและเครื่องกล | J20: (๑ วัน) | K20: - ทำการผลักใช้เงินยืมเต็มจำนวน
B21: วงจรปิด(CCTV System Design) | D21: และไฟฟ้าไทย | I21: กอบ.ชย.ทร.
I22: ๒. น.ท.อนวัช วรรณศรี
I23: นายช่างแผนกไฟฟ้าและเครื่องกล
I24: กอบ.ชย.ทร.
A25: 4 | B25: การออกแบบและการเลือกใช้และ | D25: สถาบันวิศวพัฒน์ | E25: 3000 | F25: =E25 -> 3000 | G25: =F25 -> 3000 | H25: 0 | I25: ๑. น.ท.สายันต์ ทองแสน | J25: ๒๗ ส.ค.๖๓ | K25: - เบิกยืมตามใบยืมเลขที่'๖/๖๓
B26: การบำรุงรักษาเครื่องสูบส่งน้ำ | D26: วิศวกรรมสถานแห่ง | I26: ตำแหน่ง นายช่างแผนกโยธา | J26: (๑ วัน) | K26: - ทำการผลักใช้เงินยืมเต็มจำนวน
B27: ในระบบบำบัดน้ำเสีย | D27: ประเทศไทย | I27: และสุขาภิบาล กอบ.ชย.ทร.
D28: ในพระบรมราชูปถัมภ์
D29: (วสท.)
A31: ผนวก
A32: การจัดส่งข้าราชการเข้าอบรมตามสถานศึกษาในประเทศ นอก ทร. ประจำปี งป.๖๓ ของ ชย.ทร. ตามการปรับแต่งหลักสูตร ฯ ครั้งที่ ๒
A34: ลำดับ | B34: หลักสูตร | D34: หน่วยเปิด | E34: ค่าใช้จ่าย | F34: เบิกยืม | G34: เบิกผลักใช้ | H34: นำส่งเงินคืน | I34: ผู้เข้าอบรม | J34: กำหนดเวลา | K34: หมายเหตุ
D35: หลักสูตร | E35: (บาท) | F35: (บาท) | G35: (บาท) | H35: (บาท)
A36: 5 | B36: คอร์ส Basic Graphic พื้นฐาน | D36: บริษัท แพนด้าดีไซน์ | E36: 5690 | F36: =E36 -> 5690 | G36: =F36 -> 5690 | H36: 0 | I36: ๑. ร.อ.หญิง สุนิสา กรวยทรัพย์ | J36: ๒๗ - ๒๘ ส.ค.๖๓ | K36: - เบิกยืมตามใบยืมเลขที่'๖/๖๓
B37: เบื้องต้น | D37: สตูดิโอ จำกัด | I37: ตำแหน่ง รรก.นายช่างแผนกวิทยาการ | J37: (๒ วัน) | K37: - ทำการผลักใช้เงินยืมเต็มจำนวน
I38: กวก.ชย.ทร.
A40: 6 | B40: โครงการอบรมเชิงวิชาการเรื่อง | D40: วิศวกรรมสถานแห่ง | E40: 6000 | F40: =E40 -> 6000 | G40: =F40 -> 6000 | H40: 0 | I40: ๑. ร.ท.พีรศุษม์ ศฤงคาร | J40: ๒๗ - ๒๙ ส.ค.๖๓ | K40: - เบิกยืมตามใบยืมเลขที่'๖/๖๓
B41: "องค์ความรู้ในงานวิศวกรรม | D41: ประเทศไทย | I41: ตำแหน่ง รรก.นายช่าง แผนกโยธา | J41: (๓ วัน) | K41: - ทำการผลักใช้เงินยืมเต็มจำนวน
B42: ปฐพีและการนำไปประยุกต์ใช้" | D42: ในพระบรมราชูปถัมภ์ | I42: และสุขาภิบาล กอบ.ชย.ทร.
B43: รุ่นที่ ๕ | D43: (วสท.)
A45: 7 | B45: การใช้งาน Excel ระดับสูง Excel | D45: ศูนย์อบรม | E45: 5900 | F45: =E45 -> 5900 | G45: =F45 -> 5900 | H45: 0 | I45: ๑. น.อ.ประจักษ์ สกุลพรรณ์ | J45: ๑ - ๒ ก.ย.๖๓ | K45: - เบิกยืมตามใบยืมเลขที่'๖/๖๓
B46: VBA และ Macro | D46: คอมพิวเตอร์ | I46: ตำแหน่ง หก.กวก.ชย.ทร. | J46: (๒ วัน) | K46: - ทำการผลักใช้เงินยืมเต็มจำนวน
D47: ไอทีเอคซะเล้นท์
A49: 8 | B49: โครงการอบรมหลักสูตรผู้เชี่ยวชาญ | D49: สถาบันอาคาร | E49: 16050 | F49: =E49 -> 16050 | G49: =F49 -> 16050 | H49: 0 | I49: ๑. น.ท.หญิง ณัฐกานต์ เกษประทุม | J49: ๒ - ๓ ก.ย.๖๓ | K49: - เบิกยืมตามใบยืมเลขที่'๖/๖๓
B50: อาคารเขียว TREES EB รุ่นที่ ๖ | D50: เขียวไทย | I50: ตำแหน่ง นายช่างแผนกอาคาร | J50: (๒ วัน) | K50: - ทำการผลักใช้เงินยืมเต็มจำนวน
I51: และผังหลัก กอบ.ชย.ทร.
I52: ๒. ร.อ.หญิง จิตพร ภูวนาถนรานุบาล
I53: ตำแหน่ง รรก.นายช่างแผนกอาคาร
I54: และผังหลัก กอบ.ชย.ทร.
I55: ๓. ว่าที่ ร.ท.หญิง กษีระ พรหมเดช
I56: ตำแหน่ง รรก.นายช่างแผนกพัฒนา
I57: ระบบงานช่าง กวก.ชย.ทร.
I58: ช่วยปฎิบัติราชการ แผนกอาคาร
I59: และผังหลัก กอบ.ชย.ทร.
A61: ผนวก
A62: การจัดส่งข้าราชการเข้าอบรมตามสถานศึกษาในประเทศ นอก ทร. ประจำปี งป.๖๓ ของ ชย.ทร. ตามการปรับแต่งหลักสูตร ฯ ครั้งที่ ๒
A64: ลำดับ | B64: หลักสูตร | D64: หน่วยเปิด | E64: ค่าใช้จ่าย | F64: เบิกยืม | G64: เบิกผลักใช้ | H64: นำส่งเงินคืน | I64: ผู้เข้าอบรม | J64: กำหนดเวลา | K64: หมายเหตุ
D65: หลักสูตร | E65: (บาท) | F65: (บาท) | G65: (บาท) | H65: (บาท)
A66: 9 | B66: การอบรมเรื่อง มาตรฐานการ | D66: วิศวกรรมสถานแห่ง | E66: 7000 | F66: =E66 -> 7000 | G66: 0 | H66: 7000 | I66: ๑. น.อ.สภารัฐ พงษ์พานิช | J66: ๓ - ๔ ก.ย.๖๓ | K66: - เบิกยืมตามใบยืมเลขที่'๖/๖๓
B67: ป้องกันฟ้าผ่า(ภายนอกและภายใน) | D67: ประเทศไทย | I67: ตำแหน่ง หน.ไฟฟ้าและเครื่องกล | J67: (๒ วัน)
B68: รุ่นที่ ๒ | D68: ในพระบรม | I68: กอบ.ชย.ทร. | K68: - นำส่งเงินคืน ๗,๐๐๐บาท
D69: ราชูปถัมภ์ (วสท.) | I69: ๒. ว่าที่ น.ต.ขวัญชัย จันทร์ทอง | K69: เนื่องจากหลักสูตรเลื่อน
I70: ตำแหน่ง นายช่างแผนกไฟฟ้า | K70: ไม่มีกำหนด รายละเอียด
I71: และเครื่องกล กอบ.ชย.ทร. | K71: ตามเอกสารแนบ
A72: 10 | B72: การออกแบบอาคารโรงงาน | D72: สถาบันวิศวพัฒน์ | E72: 18000 | F72: =E72 -> 18000 | G72: =F72 -> 18000 | H72: 0 | I72: ๑. ร.ท.ทวีโชค แสงสุวรรณ์ | J72: ๔ - ๕ ก.ย.๖๓ | K72: - เบิกยืมตามใบยืมเลขที่'๖/๖๓
B73: โครงสร้างเหล็ก ระบบ Rigid | D73: วิศวกรรมสถานแห่ง | I73: ตำแหน่ง รรก.นายช่าง | J73: (๒ วัน) | K73: - ทำการผลักใช้เงินยืมเต็มจำนวน
B74: Frame ขั้นพื้นฐาน รุ่นที่ ๕ | D74: ประเทศไทย | I74: แผนกประมาณการ กอบ.ชย.ทร. | J74: ๒๕ - ๒๖ ก.ย.๖๓
B75: (ตอนที่ ๑ และ ๒) | D75: ในพระบรมราชูปถัมภ์ | I75: ช่วยปฎิบัติราชการ แผนกโยธาและ | J75: (๒ วัน)
D76: (วสท.) | I76: สุขาภิบาล กอบ.ชย.ทร. | J76: รวม ๔ วัน
I77: ๒. ร.ต.ชาญวิทย์ ยาม่วง
I78: ตำแหน่ง รรก.นายทหารแผนงาน
I79: กงย.ชย.ทร. ช่วยปฎิบัติราชการ
I80: แผนกโยธาและสุขาภิบาล กอบ.ชย.ทร.
A81: 11 | B81: พัฒนาเว็บไซต์แบบมืออาชีพ | D81: ศูนย์อบรม | E81: 22500 | F81: =E81 -> 22500 | G81: =F81 -> 22500 | H81: 0 | I81: ๑. น.อ.สมนึก พงษ์สิน | J81: ๗ - ๑๑ ก.ย.๖๓ | K81: - เบิกยืมตามใบยืมเลขที่'๖/๖๓
B82: ด้วย PHP พร้อมติดต่อ | D82: คอมพิวเตอร์ | I82: ตำแหน่ง หน.ส่งกำลังบำรุง กผค.ชย.ทร. | J82: (๕ วัน) | K82: - ทำการผลักใช้เงินยืมเต็มจำนวน
B83: ฐานข้อมูล MySQL | D83: ไอทีเอคซะเล้นท์ | I83: ๒. พ.จ.อ.วรรณชัย ธรรมอินทร์ลาด
I84: ตำแหน่ง ช่างเขียนแบบ แผนกโยธา
I85: และสุขาภิบาล
I86: ๓. จ.อ.อนุชา ระวังงาน
I87: ตำแหน่ง ช่างเขียนแบบ แผนกโยธา
I88: และสุขาภิบาล
A90: ผนวก
A91: การจัดส่งข้าราชการเข้าอบรมตามสถานศึกษาในประเทศ นอก ทร. ประจำปี งป.๖๓ ของ ชย.ทร. ตามการปรับแต่งหลักสูตร ฯ ครั้งที่ ๒
A92: ลำดับ | B92: หลักสูตร | D92: หน่วยเปิด | E92: ค่าใช้จ่าย | F92: เบิกยืม | G92: เบิกผลักใช้ | H92: นำส่งเงินคืน | I92: ผู้เข้าอบรม | J92: กำหนดเวลา | K92: หมายเหตุ
D93: หลักสูตร | E93: (บาท) | F93: (บาท) | G93: (บาท) | H93: (บาท)
A94: 12 | B94: การอบรมเชิงวิชาชีพเรื่อง | D94: วิศวกรรมสถานแห่ง | E94: 4500 | F94: =E94 -> 4500 | G94: =F94 -> 4500 | H94: 0 | I94: ๑. ว่าที่ ร.ต.ชนะ สินทรัพย์วโรดม | J94: ๑๑ - ๑๒ ก.ย.๖๓ | K94: - เบิกยืมตามใบยืมเลขที่'๖/๖๓
B95: การออกแบบพื้นคอนกรีตอัดแรง | D95: ประเทศไทย | I95: ตำแหน่ง ประจำแผนกยุทธโยธา | J95: (๒ วัน) | K95: - ทำการผลักใช้เงินยืมเต็มจำนวน
B96: ไร้คาน (Design of | D96: ในพระบรม | I96: กองบริการ การท่าเรือสัตหีบ
B97: Post - tensioned Flat Slab) | D97: ราชูปถัมภ์ (วสท.) | I97: ช่วยปฎิบัติราชการแผนกโยธา
B98: รุ่นที่ ๖ | I98: และสุขาภิบาล กอบ.ชย.ทร.
A99: 13 | B99: โปรแกรมออฟฟิศ Word, Excel, | D99: ศูนย์อบรม | E99: 19500 | F99: =E99 -> 19500 | G99: =F99 -> 19500 | H99: 0 | I99: ๑. น.ท.กานต์ อรัญยกานนท์ | J99: ๑๔ - ๑๖ ก.ย.๖๓ | K99: - เบิกยืมตามใบยืมเลขที่'๖/๖๓
B100: Power Point ระดับกลาง ถึง | D100: คอมพิวเตอร์ | I100: ตำแหน่ง นายช่างแผนกอาคาร | J100: (๓ วัน) | K100: - ทำการผลักใช้เงินยืมเต็มจำนวน
B101: ระดับสูง | D101: ไอทีเอคซะเล้นท์ | I101: และผังหลัก กอบ.ชย.ทร.
I102: ๒. ว่าที่ ร.ต.อนุดิษฐ์ ยอดเสาร์
I103: ตำแหน่งแผนกประมาณการ กอบ.ชย.ทร.
I104: ๓. พ.จ.ต.นรินทร์ ภูลายดอก
I105: ตำแหน่ง ช่างแผนกประมาณการ
I106: กอบ.ชย.ทร.
A107: 14 | B107: การอบรมเรื่อง การเลือกและ | D107: วิศวกรรมสถานแห่ง | E107: 9000 | F107: =E107 -> 9000 | G107: =F107 -> 9000 | H107: 0 | I107: ๑. ว่าที่ น.ต.ธีรทัต กงทอง | J107: ๑๙ - ๒๐ ก.ย.๖๓ | K107: - เบิกยืมตามใบยืมเลขที่'๖/๖๓
B108: การคำนวณระบบควบคุมความชื้น | D108: ประเทศไทย | I108: ตำแหน่ง นายช่างแผนกโยธา | J108: (๒ วัน) | K108: - ทำการผลักใช้เงินยืมเต็มจำนวน
B109: ในงานปรับอากาศ รุ่นที่ ๑๕ | D109: ในพระบรม | I109: และสุขาภิบาล กอบ.ชย.ทร.
D110: ราชูปถัมภ์ (วสท.) | I110: ๒. ว่าที่ ร.ท.ชนาธิป คำดำ
...

Sheet ผนวก ก ยกเลิก
A1: ผนวก ก
A2: การปรับแต่งหลักสูตรตามโครงศึกษาและอบรมข้าราชการตามสถานศึกษาในประเทศ นอก ทร. ประจำปี งป.๖๓ ของ ชย.ทร. ครั้งที่ ๒
A3: รายละเอียดโครงการศึกษา ฯ ที่ปรับเปลี่ยนครั้ง ๑ | F3: รายละเอียดโครงการศึกษา ฯ ที่ปรับเปลี่ยนครั้ง ๒ | K3: หมายเหตุ
A4: ลำดับ | B4: รายละเอียดหลักสูตร | D4: หน่วยเปิด | E4: วงเงิน | F4: ลำดับ | G4: รายละเอียดหลักสูตร | I4: หน่วยเปิด | J4: วงเงิน
D5: หลักสูตร | E5: (บาท) | I5: หลักสูตร | J5: (บาท)
A6: 1 | E6: 16800 | F6: 1 | G6: การประยุกต์การใช้โปรแกรม | I6: ศูนย์การอบรมและ | J6: 4500 | K6: - ปรับเปลี่ยนหลักสูตร
G7: ETABS (v.18) | I7: สัมมนาทางวิศวกรรม | K7: - ปรับเปลี่ยนวงเงิน
I8: TumCivil.com
I9: Traning Center
B10: รวมเป็นเงิน | E10: =E6 -> 16800 | F10: 2 | G10: การออกแบบระบบรักษาความ | I10: สมาคมวิศวกร | J10: =3424*2 -> 6848 | K10: - ปรับเปลี่ยนหลักสูตร
G11: ปลอดภัย-ระบบกล้องโทรทัศน์ | I11: ทีปรึกษาเครื่องกล | K11: - ปรับเปลี่ยนวงเงิน
G12: วงจรปิด (CCTV System Design) | I12: และไฟฟ้าไทย
F14: 3 | G14: การออกแบบและการเลือกใช้และ | I14: สถาบันวิศวพัฒน์ | J14: 3000 | K14: - ปรับเปลี่ยนหลักสูตร
G15: การบำรุงรักษาเครื่องสูบส่งน้ำ | I15: วิศวกรรมสถานแห่ง | K15: - ปรับเปลี่ยนวงเงิน
G16: ในระบบบำบัดน้ำเสีย | I16: ประเทศไทย
I17: ในพระบรมราชูปถัมภ์
I18: (วสท.)
F20: 4 | G20: คอร์ส Basic Graphic พื้นฐาน | I20: บริษัท แพนด้าดีไซน์ | J20: 5690 | K20: - ปรับเปลี่ยนหลักสูตร
G21: เบื้องต้น | I21: สตูดิโอ จำกัด | K21: - ปรับเปลี่ยนวงเงิน
F23: 5 | G23: การใช้งาน Excel ระดับสูง Excel | I23: ศูนย์อบรมคอมพิวเตอร์ | J23: 7500 | K23: - ปรับเปลี่ยนหลักสูตร
G24: VBA และ Macro | I24: ไอทีเอคซะเล้นท์ | K24: - ปรับเปลี่ยนวงเงิน
A26: ผนวก ก
A27: การปรับแต่งหลักสูตรตามโครงศึกษาและอบรมข้าราชการตามสถานศึกษาในประเทศ นอก ทร. ประจำปี งป.๖๓ ของ ชย.ทร. ครั้งที่ ๒
A28: รายละเอียดโครงการศึกษา ฯ ที่ปรับเปลี่ยนครั้ง ๑ | F28: รายละเอียดโครงการศึกษา ฯ ที่ปรับเปลี่ยนครั้ง ๒ | K28: หมายเหตุ
A29: ลำดับ | B29: หลักสูตร | D29: หน่วยเปิด | E29: วงเงิน | F29: ลำดับ | G29: หลักสูตร | I29: หน่วยเปิด | J29: วงเงิน
D30: หลักสูตร | I30: หลักสูตร
F31: 6 | G31: โครงการอบรมหลักสูตรผู้เชี่ยวชาญ | I31: สถาบันอาคารเขียวไทย | J31: =5350*3 -> 16050 | K31: - ปรับเปลี่ยนหลักสูตร
G32: อาคารเขียว TREES EB รุ่นที่ ๖ | K32: - ปรับเปลี่ยนวงเงิน
F34: 7 | G34: การอบรมเรื่อง มาตรฐานการ | I34: วิศวกรรมสถานแห่ง | J34: =3500*2 -> 7000 | K34: - ปรับเปลี่ยนหลักสูตร
G35: ป้องกันฟ้าผ่า(ภายนอกและภายใน) | I35: ประเทศไทย | K35: - ปรับเปลี่ยนวงเงิน
G36: รุ่นที่ ๒ | I36: ในพระบรมราชูปถัมภ์
I37: (วสท.)
F39: 8 | G39: การออกแบบอาคารโรงงาน | I39: สถาบันวิศวพัฒน์ | J39: =9000*2 -> 18000 | K39: - ปรับเปลี่ยนหลักสูตร
G40: โครงสร้างเหล็ก ระบบ Rigid | I40: วิศวกรรมสถานแห่ง | K40: - ปรับเปลี่ยนวงเงิน
G41: Frame ขั้นพื้นฐาน รุ่นที่ ๕ | I41: ประเทศไทย
I42: ในพระบรมราชูปถัมภ์
I43: (วสท.)
F45: 9 | G45: พัฒนาเว็บไซต์แบบมืออาชีพด้วย | I45: ศูนย์อบรมคอมพิวเตอร์ | J45: =7500*3 -> 22500 | K45: - ปรับเปลี่ยนหลักสูตร
G46: PHP พร้อมติดต่อ ฐานข้อมูล | I46: ไอทีเอคซะเล้นท์ | K46: - ปรับเปลี่ยนวงเงิน
G47: MySQL | K47: - ปรับเปลี่ยนชั้นยศของ
K48: ผู้เข้าอบรม
A50: ผนวก ก
A51: การปรับแต่งหลักสูตรตามโครงศึกษาและอบรมข้าราชการตามสถานศึกษาในประเทศ นอก ทร. ประจำปี งป.๖๓ ของ ชย.ทร. ครั้งที่ ๒
A52: รายละเอียดโครงการศึกษา ฯ ที่ปรับเปลี่ยนครั้ง ๑ | F52: รายละเอียดโครงการศึกษา ฯ ที่ปรับเปลี่ยนครั้ง ๒ | K52: หมายเหตุ
A53: ลำดับ | B53: หลักสูตร | D53: หน่วยเปิด | E53: วงเงิน | F53: ลำดับ | G53: หลักสูตร | I53: หน่วยเปิด | J53: วงเงิน
D54: หลักสูตร | I54: หลักสูตร
F55: 10 | G55: การอบรมเชิงวิชาชีพเรื่อง | I55: วิศวกรรมสถานแห่ง | J55: 4500 | K55: - ปรับเปลี่ยนหลักสูตร
G56: การออกแบบ พื้นคอนกรีตอัดแรง | I56: ประเทศไทย | K56: - ปรับเปลี่ยนวงเงิน
G57: ไร้คาน (Design of Post | I57: ในพระบรมราชูปถัมภ์
G58: - tensioned Flat Slab) รุ่นที่ ๖ | I58: (วสท.)
F60: 11 | G60: โปรแกรมออฟฟิส Word, Excel, | I60: ศูนย์อบรมคอมพิวเตอร์ | J60: =6500*3 -> 19500 | K60: - ปรับเปลี่ยนหลักสูตร
G61: Power Point ระดับกลาง ถึง | I61: ไอทีเอคซะเล้นท์ | K61: - ปรับเปลี่ยนวงเงิน
G62: ระดับสูง | K62: - ปรับเปลี่ยนชั้นยศของ
K63: ผู้เข้าอบรม
F64: 12 | G64: โครงการอบรมหลักสูตร | I64: สถาบันวิศวพัฒน์ | J64: 5500 | K64: - ปรับเปลี่ยนหลักสูตร
G65: การออกแบบคอนกรีตเสริมเหล็ก | I65: วิศวกรรมสถานแห่ง | K65: - ปรับเปลี่ยนวงเงิน
G66: โดยวิธีกำลัง (Stength Design | I66: ประเทศไทย
G67: Method ) | I67: ในพระบรมราชูปถัมภ์
I68: (วสท.)
F69: 13 | G69: การอบรมเรื่อง การเลือกและการ | I69: วิศวกรรมสถานแห่ง | J69: 9000 | K69: - ปรับเปลี่ยนหลักสูตร
G70: คำนวณระบบควบคุมความชื้นใน | I70: ประเทศไทย | K70: - ปรับเปลี่ยนวงเงิน
G71: งานปรับอากาศ รุ่นที่ ๑๕ | I71: ในพระบรมราชูปถัมภ์
I72: (วสท.)
G74: รวมเป็นเงิน | J74: =J6+J10+J14+J23+J31+J34+J39+J45+J20+J55+J60+J64+J69 -> 129588

Sheet Sheet2

Sheet Sheet3
