Workbook

Sheet ผนวก ก 
A1: ผนวก ก
A2: การปรับแต่งหลักสูตรตามโครงการศึกษาและอบรมข้าราชการตามสถานศึกษาในประเทศ นอก ทร. ประจำปี งป.๖๓ ของ ชย.ทร. ครั้งที่ ๒
A4: รายละเอียดโครงการศึกษา ฯ ที่ปรับเปลี่ยนครั้งที่ ๑ | H4: รายละเอียดโครงการศึกษา ฯ ที่ปรับเปลี่ยนครั้งที่ ๒ | N4: หมายเหตุ
A5: ลำดับ | B5: รายละเอียดหลักสูตร | D5: หน่วยเปิด | E5: วงเงิน | F5: เบี้ยเลี้ยง | G5: หมายเหตุ | H5: ลำดับ | I5: รายละเอียดหลักสูตร | K5: หน่วยเปิด | L5: วงเงิน | M5: เบี้ยเลี้ยง
D6: หลักสูตร | E6: (บาท) | F6: เดินทาง | K6: หลักสูตร | L6: (บาท) | M6: เดินทาง
A7: 1 | B7: เทคนิคการออกแบบรายการก่อสร้างโดยใช้โปรแกรมคอมพิวเตอร์ - ระยะเวลา ๑ วัน - ร.ต. - น.อ.(พ) จำนวน ๒ นาย | D7: วิศวกรรมสถาน แห่งประเทศไทย | E7: 10000 | F7: 0 | G7: - | H7: 1 | I7: การประยุกต์การใช้โปรแกรม | K7: ศูนย์การอบรม | L7: ='ผนวก ข'!H7 -> 4500 | M7: 0 | N7: - ปรับเปลี่ยน
B8: และทำรายการคำนวณเพื่อยื่น | I8: ETABS (v.18) เพื่อการออกแบบ | K8: และสัมมนา | N8: หลักสูตร
B9: ขออนุญาตก่อสร้างโดยใช้ | I9: อย่างมืออาชีพ รุ่นที่ ๑๒ | K9: ทางวิศวกรรม | N9: - ปรับเปลี่ยน
B10: โปรแกรมคอมพิวเตอร์ | I10: - ระยะเวลา ๒ วัน | K10: TumCivil.com | N10: วงเงิน
B11: - ระยะเวลา ๑ วัน | I11: - ร.ต. - น.อ.(พ) | K11: Traning Center | N11: - ปรับเปลี่ยน
B12: - ร.ต. - น.อ.(พ) | I12: จำนวน ๑ นาย | N12: ชั้นยศของ
B13: จำนวน ๒ นาย | N13: ผู้เข้าอบรม
A14: 2 | B14: การตัดต่อวิดีโอด้วยโปรแกรม | D14: ศูนย์อบรม ไอที เอคซะเล้นท์ | E14: 16800 | F14: 0 | G14: - | H14: 2 | I14: การตัดต่อวิดีโอด้วยโปรแกรม | K14: ศูนย์อบรม ไอที เอคซะเล้นท์ | L14: ='ผนวก ข'!H11 -> 16800 | M14: 0 | N14: - อนุมัติ
B15: Permiere Pro Video Editing | D15: คอมพิวเตอร์ | I15: Permiere Pro Video Editing | K15: คอมพิวเตอร์ | N15: ตัวบุคคลเข้า
B16: & After Effect | D16: ไอทีเอคซะเล้นท์ | I16: & After Effect | K16: ไอทีเอคซะเล้นท์ | N16: อบรมแล้ว
B17: - ระยะเวลา ๓ วัน | I17: - ระยะเวลา ๓ วัน | N17: เป็นลำดับที่ ๑
B18: - จ.อ. - น.อ.(พ) | I18: - จ.อ. - น.อ.(พ)
B19: จำนวน ๓ นาย | I19: จำนวน ๓ นาย
A21: 3 | B21: การตรวจสอบรอยร้าวและ | D21: วิศวกรรมสถาน | E21: 10000 | F21: 0 | G21: - | H21: 3 | I21: การออกแบบระบบรักษาความ | K21: สมาคมวิศวกร | L21: ='ผนวก ข'!H20 -> 6848 | M21: 0 | N21: - ปรับเปลี่ยน
B22: การซ่อมเสริมกำลังอาคาร | D22: แห่งประเทศไทย | I22: ปลอดภัย-ระบบกล้องโทรทัศน์ | K22: ที่ปรึกษาเครื่องกล | N22: หลักสูตร
B23: - ระยะเวลา ๑ วัน | I23: วงจรปิด (CCTV System Design) | K23: และไฟฟ้าไทย | N23: - ปรับเปลี่ยน
B24: - ร.ต. - น.อ.(พ) | I24: - ระยะเวลา ๑ วัน | N24: วงเงิน
B25: จำนวน ๒ นาย | I25: - ร.ต. - น.อ.(พ)
I26: จำนวน ๒ นาย
A28: ผนวก ก
A29: การปรับแต่งหลักสูตรตามโครงการศึกษาและอบรมข้าราชการตามสถานศึกษาในประเทศ นอก ทร. ประจำปี งป.๖๓ ของ ชย.ทร. ครั้งที่ ๒
A31: รายละเอียดโครงการศึกษา ฯ ที่ปรับเปลี่ยนครั้งที่ ๑ | H31: รายละเอียดโครงการศึกษา ฯ ที่ปรับเปลี่ยนครั้งที่ ๒ | N31: หมายเหตุ
A32: ลำดับ | B32: รายละเอียดหลักสูตร | D32: หน่วยเปิด | E32: วงเงิน | F32: เบี้ยเลี้ยง | G32: หมายเหตุ | H32: ลำดับ | I32: รายละเอียดหลักสูตร | K32: หน่วยเปิด | L32: วงเงิน | M32: เบี้ยเลี้ยง
D33: หลักสูตร | E33: (บาท) | F33: เดินทาง | K33: หลักสูตร | L33: (บาท) | M33: เดินทาง
A34: 4 | B34: การประมาณราคากลาง | D34: วิศวกรรมสถาน | E34: 12000 | F34: 0 | G34: - | H34: 4 | I34: การออกแบบและการเลือกใช้และ | K34: สถาบันวิศวพัฒน์ | L34: ='ผนวก ข'!H26 -> 3000 | M34: 0 | N34: - ปรับเปลี่ยน
B35: งานราชการ | D35: แห่งประเทศไทย | I35: การบำรุงรักษาเครื่องสูบส่งน้ำ | K35: วิศวกรรมสถาน | N35: หลักสูตร
B36: - ระยะเวลา ๒ วัน | I36: ในระบบบำบัดน้ำเสีย | K36: แห่งประเทศไทย | N36: - ปรับเปลี่ยน
B37: - ร.ต. - น.อ.(พ) | I37: - ระยะเวลา ๑ วัน | K37: ในพระบรม | N37: วงเงิน
B38: จำนวน ๒ นาย | I38: - ร.ต. - น.อ.(พ) | K38: ราชูปถัมภ์ (วสท.)
I39: จำนวน ๑ นาย
A40: 5 | B40: การคำนวณออกแบบโครงสร้าง | D40: สมาคมคอนกรีต | E40: 7000 | F40: 0 | G40: - | H40: 5 | I40: คอร์ส Basic Graphic พื้นฐาน | K40: บริษัท แพนด้า | L40: ='ผนวก ข'!H37 -> 5690 | M40: 0 | N40: - ปรับเปลี่ยน
B41: คอนกรีตเสริมเหล็กโดยวิธี | D41: แห่งประเทศไทย | I41: เบื้องต้น | K41: ดีไซน์ สตูดิโอ | N41: หลักสูตร
B42: หน่วยแรงใช้งานและวิธีกำลัง | I42: - ระยะเวลา ๒ วัน | K42: จำกัด | N42: - ปรับเปลี่ยน
B43: (ขั้นพื้นฐาน) | I43: - ร.ต. - น.อ.(พ) | N43: วงเงิน
B44: - ระยะเวลา ๑ วัน | I44: จำนวน ๑ นาย
...

Sheet ผนวก ข
A2: ผนวก
A3: การจัดส่งข้าราชการเข้าอบรมตามสถานศึกษาในประเทศ นอก ทร. ประจำปี งป.๖๓ ของ ชย.ทร. ตามการปรับแต่งหลักสูตร ฯ ครั้งที่ ๒
A5: ลำดับ | B5: หลักสูตร | D5: หน่วยเปิด | E5: ชั้นยศ | F5: ค่าใช้จ่าย | G5: จำนวน | H5: วงเงินรวม | I5: ผู้เข้าอบรม | J5: กำหนดเวลา | K5: หมายเหตุ
D6: หลักสูตร | F6: (ต่อนาย) | G6: (นาย) | H6: (บาท)
A7: 1 | B7: การประยุกต์การใช้โปรแกรม | D7: ศูนย์การอบรมและ | E7: ร.ต. | F7: 4500 | G7: 1 | H7: =F7*G7 -> 4500 | I7: ๑. ร.อ.บัณฑิตย์ บุญพันธุ์ | J7: ๒๒ - ๒๓ ส.ค.๖๓ | K7: - ปรับเปลี่ยนหลักสูตร
B8: ETABS (v.18) เพื่อการออกแบบ | D8: สัมมนาทางวิศวกรรม | E8: - | I8: ตำแหน่ง รรก.นายช่างแผนก | J8: (๒ วัน) | K8: - ปรับเปลี่ยนวงเงิน
B9: อย่างมืออาชีพ รุ่นที่ ๑๒ | D9: TumCivil.com | E9: น.อ.(พ) | I9: ออกแบบโยธาและสุขาภิบาล
D10: Traning Center | I10: กอบ.ชย.ทร.
A11: 2 | B11: การตัดต่อวิดีโอด้วยโปรแกรม | D11: ศูนย์อบรม ไอที เอคซะเล้นท์ | E11: จ.อ. | F11: 5600 | G11: 3 | H11: =F11*G11 -> 16800 | I11: ๑. น.อ.สมนึก พงษ์สิน | J11: ๑๔,๒๑,๒๘ | K11: - อนุมัติตัวบุคคล
B12: Permiere Pro Video Editing | D12: คอมพิวเตอร์ | E12: - | I12: ตำแหน่ง หน.ส่งกำลังบำรุง กผค.ชย.ทร. | J12: ก.พ.๖๓ | K12: เข้าอบรมแล้ว
B13: & After Effect | D13: ไอทีเอคซะเล้นท์ | E13: น.อ.(พ) | I13: ๒. พ.จ.อ.วรรณชัย ธรรมอินทร์ลาด | J13: (๓ วัน) | K13: เป็น ลำดับที่ ๑
I14: ตำแหน่ง ช่างเขียนแบบ แผนกโยธา
I15: ๓. จ.อ.ปฎิวัติ พละวงศ์
I16: ตำแหน่ง จนท.ตรวจสอบและคุมบัตร
I17: มว.ควบคุมและทดสอบ แผนกพัสดุช่าง
I18: กพสด.ชย.ทร.
A20: 3 | B20: การออกแบบระบบรักษาความ | D20: สมาคมวิศวกร | E20: ร.ต. | F20: =3424 -> 3424 | G20: 2 | H20: =F20*G20 -> 6848 | I20: ๑. น.อ.สภารัฐ พงษ์พานิช | J20: ๒๖ ส.ค.๖๓ | K20: - ปรับเปลี่ยนหลักสูตร
B21: ปลอดภัย - ระบบกล้องโทรทัศน์ | D21: ที่ปรึกษาเครื่องกล | E21: - | I21: ตำแหน่ง หน.ไฟฟ้าและเครื่องกล | J21: (๑ วัน) | K21: - ปรับเปลี่ยนวงเงิน
B22: วงจรปิด (CCTV System Design) | D22: และไฟฟ้าไทย | E22: น.อ.(พ) | I22: กอบ.ชย.ทร.
I23: ๒. น.ท.อนวัช วรรณศรี
I24: นายช่างแผนกไฟฟ้าและเครื่องกล
I25: กอบ.ชย.ทร.
A26: 4 | B26: การออกแบบและการเลือกใช้และ | D26: สถาบันวิศวพัฒน์ | E26: ร.ต. | F26: 3000 | G26: 1 | H26: =F26*G26 -> 3000 | I26: ๑. น.ท.สายันต์ ทองแสน | J26: ๒๗ ส.ค.๖๓ | K26: - ปรับเปลี่ยนหลักสูตร
B27: การบำรุงรักษาเครื่องสูบส่งน้ำ | D27: วิศวกรรมสถานแห่ง | E27: - | I27: ตำแหน่ง นายช่างแผนกโยธา | J27: (๑ วัน) | K27: - ปรับเปลี่ยนวงเงิน
B28: ในระบบบำบัดน้ำเสีย | D28: ประเทศไทย | E28: น.อ.(พ) | I28: และสุขาภิบาล กอบ.ชย.ทร.
D29: ในพระบรมราชูปถัมภ์
D30: (วสท.)
A32: ผนวก
A33: การจัดส่งข้าราชการเข้าอบรมตามสถานศึกษาในประเทศ นอก ทร. ประจำปี งป.๖๓ ของ ชย.ทร. ตามการปรับแต่งหลักสูตร ฯ ครั้งที่ ๒
A35: ลำดับ | B35: หลักสูตร | D35: หน่วยเปิด | E35: ชั้นยศ | F35: ค่าใช้จ่าย | G35: จำนวน | H35: วงเงินรวม | I35: ผู้เข้าอบรม | J35: กำหนดเวลา | K35: หมายเหตุ
D36: หลักสูตร | F36: (ต่อนาย) | G36: (นาย) | H36: (บาท)
A37: 5 | B37: คอร์ส Basic Graphic พื้นฐาน | D37: บริษัท แพนด้าดีไซน์ | E37: ร.ต. | F37: 5690 | G37: 1 | H37: =F37*G37 -> 5690 | I37: ๑. ร.อ.หญิงสุนิสา กรวยทรัพย์ | J37: ๒๗ - ๒๘ ส.ค.๖๓ | K37: - ปรับเปลี่ยนหลักสูตร
B38: เบื้องต้น | D38: สตูดิโอ จำกัด | E38: - | I38: ตำแหน่ง รรก.นายช่างแผนกวิทยาการ | J38: (๒ วัน) | K38: - ปรับเปลี่ยนวงเงิน
E39: น.อ.(พ) | I39: กวก.ชย.ทร.
A41: 6 | B41: โครงการอบรมเชิงวิชาการเรื่อง | D41: วิศวกรรมสถานแห่ง | E41: ร.ต. | F41: 6000 | G41: 1 | H41: =F41*G41 -> 6000 | I41: ๑. ร.ท.พีรศุษม์ ศฤงคาร | J41: ๒๗ - ๒๙ ส.ค.๖๓ | K41: - ปรับเปลี่ยนหลักสูตร
B42: "องค์ความรู้ในงานวิศวกรรม | D42: ประเทศไทย | E42: - | I42: ตำแหน่ง รรก.นายช่าง แผนกโยธา | J42: (๓ วัน) | K42: - ปรับเปลี่ยนวงเงิน
B43: ปฐพีและการนำไปประยุกต์ใช้" | D43: ในพระบรมราชูปถัมภ์ | E43: น.อ.(พ) | I43: และสุขาภิบาล กอบ.ชย.ทร.
B44: รุ่นที่ ๕ | D44: (วสท.)
A46: 7 | B46: การใช้งาน Excel ระดับสูง Excel | D46: ศูนย์อบรมคอมพิวเตอร์ | E46: ร.ต. | F46: 5900 | G46: 1 | H46: =F46*G46 -> 5900 | I46: ๑. น.อ.ประจักษ์ สกุลพรรณ์ | J46: ๑ - ๒ ก.ย.๖๓ | K46: - ปรับเปลี่ยนหลักสูตร
B47: VBA และ Macro | D47: ไอทีเอคซะเล้นท์ | E47: - | I47: ตำแหน่ง หก.กวก.ชย.ทร. | J47: (๒ วัน) | K47: - ปรับเปลี่ยนวงเงิน
...

Sheet ผนวก ผลักใช้
A1: ผนวก
A2: รายละเอียดการเบิกผลักใช้เงินยืม ตามการปรับแต่งหลักสูตร ฯ ครั้งที่ ๒
A4: ลำดับ | B4: หลักสูตร | D4: หน่วยเปิด | E4: ค่าใช้จ่าย | F4: เบิกยืม | G4: เบิกผลักใช้ | H4: นำส่งเงินคืน | I4: ผู้เข้าอบรม | J4: กำหนดเวลา | K4: หมายเหตุ
D5: หลักสูตร | E5: (บาท) | F5: (บาท) | G5: (บาท) | H5: (บาท)
A6: 1 | B6: การประยุกต์การใช้โปรแกรม | D6: ศูนย์การอบรมและ | E6: 4500 | F6: =E6 -> 4500 | G6: =F6 -> 4500 | H6: 0 | I6: ๑. ร.อ.บัณฑิตย์ บุญพันธุ์ | J6: ๒๒ - ๒๓ ส.ค.๖๓ | K6: - เบิกยืมตามใบยืมเลขที่'๖/๖๓
B7: ETABS (v.18) เพื่อการออกแบบ | D7: สัมมนาทางวิศวกรรม | I7: ตำแหน่ง รรก.นายช่างแผนก | J7: (๒ วัน) | K7: - ทำการผลักใช้เงินยืมเต็มจำนวน
B8: อย่างมืออาชีพ รุ่นที่ ๑๒ | D8: TumCivil.com | I8: ออกแบบโยธาและสุขาภิบาล
D9: Traning Center | I9: กอบ.ชย.ทร.
A10: 2 | B10: การตัดต่อวิดีโอด้วยโปรแกรม | D10: ศูนย์อบรม | E10: 16800 | F10: 0 | G10: =F10 -> 0 | H10: 0 | I10: ๑. น.อ.สมนึก พงษ์สิน | J10: ๑๔,๒๑,๒๘ | K10: - ไม่ทำการเบิกยืมและ
B11: Permiere Pro Video Editing | D11: คอมพิวเตอร์ | I11: ตำแหน่ง หน.ส่งกำลังบำรุง กผค.ชย.ทร. | J11: ก.พ.๖๓ | K11: ไม่มีการผลักใช้เงินยืม
B12: & After Effect | D12: ไอทีเอคซะเล้นท์ | I12: ๒. พ.จ.อ.วรรณชัย ธรรมอินทร์ลาด | J12: (๓ วัน)
I13: ตำแหน่ง ช่างเขียนแบบ แผนกโยธา
I14: ๓. จ.อ.ปฎิวัติ พละวงศ์
I15: ตำแหน่ง จนท.ตรวจสอบและคุมบัตร
I16: มว.ควบคุมและทดสอบ แผนกพัสดุช่าง
I17: กพสด.ชย.ทร.
A19: 3 | B19: การออกแบบระบบรักษาความ | D19: สมาคมวิศวกร | E19: 6848 | F19: =E19 -> 6848 | G19: =F19 -> 6848 | H19: 0 | I19: ๑. น.อ.สภารัฐ พงษ์พานิช | J19: ๒๖ ส.ค.๖๓ | K19: - เบิกยืมตามใบยืมเลขที่'๖/๖๓
B20: ปลอดภัย - ระบบกล้องโทรทัศน์ | D20: ที่ปรึกษาเครื่องกล | I20: ตำแหน่ง หน.ไฟฟ้าและเครื่องกล | J20: (๑ วัน) | K20: - ทำการผลักใช้เงินยืมเต็มจำนวน
B21: วงจรปิด(CCTV System Design) | D21: และไฟฟ้าไทย | I21: กอบ.ชย.ทร.
I22: ๒. น.ท.อนวัช วรรณศรี
I23: นายช่างแผนกไฟฟ้าและเครื่องกล
I24: กอบ.ชย.ทร.
A25: 4 | B25: การออกแบบและการเลือกใช้และ | D25: สถาบันวิศวพัฒน์ | E25: 3000 | F25: =E25 -> 3000 | G25: =F25 -> 3000 | H25: 0 | I25: ๑. น.ท.สายันต์ ทองแสน | J25: ๒๗ ส.ค.๖๓ | K25: - เบิกยืมตามใบยืมเลขที่'๖/๖๓
B26: การบำรุงรักษาเครื่องสูบส่งน้ำ | D26: วิศวกรรมสถานแห่ง | I26: ตำแหน่ง นายช่างแผนกโยธา | J26: (๑ วัน) | K26: - ทำการผลักใช้เงินยืมเต็มจำนวน
B27: ในระบบบำบัดน้ำเสีย | D27: ประเทศไทย | I27: และสุขาภิบาล กอบ.ชย.ทร.
D28: ในพระบรมราชูปถัมภ์
D29: (วสท.)
A31: ผนวก
A32: การจัดส่งข้าราชการเข้าอบรมตามสถานศึกษาในประเทศ นอก ทร. ประจำปี งป.๖๓ ของ ชย.ทร. ตามการปรับแต่งหลักสูตร ฯ ครั้งที่ ๒
A34: ลำดับ | B34: หลักสูตร | D34: หน่วยเปิด | E34: ค่าใช้จ่าย | F34: เบิกยืม | G34: เบิกผลักใช้ | H34: นำส่งเงินคืน | I34: ผู้เข้าอบรม | J34: กำหนดเวลา | K34: หมายเหตุ
D35: หลักสูตร | E35: (บาท) | F35: (บาท) | G35: (บาท) | H35: (บาท)
A36: 5 | B36: คอร์ส Basic Graphic พื้นฐาน | D36: บริษัท แพนด้าดีไซน์ | E36: 5690 | F36: =E36 -> 5690 | G36: =F36 -> 5690 | H36: 0 | I36: ๑. ร.อ.หญิง สุนิสา กรวยทรัพย์ | J36: ๒๗ - ๒๘ ส.ค.๖๓ | K36: - เบิกยืมตามใบยืมเลขที่'๖/๖๓
B37: เบื้องต้น | D37: สตูดิโอ จำกัด | I37: ตำแหน่ง รรก.นายช่างแผนกวิทยาการ | J37: (๒ วัน) | K37: - ทำการผลักใช้เงินยืมเต็มจำนวน
I38: กวก.ชย.ทร.
A40: 6 | B40: โครงการอบรมเชิงวิชาการเรื่อง | D40: วิศวกรรมสถานแห่ง | E40: 6000 | F40: =E40 -> 6000 | G40: =F40 -> 6000 | H40: 0 | I40: ๑. ร.ท.พีรศุษม์ ศฤงคาร | J40: ๒๗ - ๒๙ ส.ค.๖๓ | K40: - เบิกยืมตามใบยืมเลขที่'๖/๖๓
B41: "องค์ความรู้ในงานวิศวกรรม | D41: ประเทศไทย | I41: ตำแหน่ง รรก.นายช่าง แผนกโยธา | J41: (๓ วัน) | K41: - ทำการผลักใช้เงินยืมเต็มจำนวน
B42: ปฐพีและการนำไปประยุกต์ใช้" | D42: ในพระบรมราชูปถัมภ์ | I42: และสุขาภิบาล กอบ.ชย.ทร.
B43: รุ่นที่ ๕ | D43: (วสท.)
A45: 7 | B45: การใช้งาน Excel ระดับสูง Excel | D45: ศูนย์อบรม | E45: 5900 | F45: =E45 -> 5900 | G45: =F45 -> 5900 | H45: 0 | I45: ๑. น.อ.ประจักษ์ สกุลพรรณ์ | J45: ๑ - ๒ ก.ย.๖๓ | K45: - เบิกยืมตามใบยืมเลขที่'๖/๖๓
B46: VBA และ Macro | D46: คอมพิวเตอร์ | I46: ตำแหน่ง หก.กวก.ชย.ทร. | J46: (๒ วัน) | K46: - ทำการผลักใช้เงินยืมเต็มจำนวน
...

Sheet ผนวก ก ยกเลิก
A1: ผนวก ก
A2: การปรับแต่งหลักสูตรตามโครงศึกษาและอบรมข้าราชการตามสถานศึกษาในประเทศ นอก ทร. ประจำปี งป.๖๓ ของ ชย.ทร. ครั้งที่ ๒
A3: รายละเอียดโครงการศึกษา ฯ ที่ปรับเปลี่ยนครั้ง ๑ | F3: รายละเอียดโครงการศึกษา ฯ ที่ปรับเปลี่ยนครั้ง ๒ | K3: หมายเหตุ
A4: ลำดับ | B4: รายละเอียดหลักสูตร | D4: หน่วยเปิด | E4: วงเงิน | F4: ลำดับ | G4: รายละเอียดหลักสูตร | I4: หน่วยเปิด | J4: วงเงิน
D5: หลักสูตร | E5: (บาท) | I5: หลักสูตร | J5: (บาท)
A6: 1 | E6: 16800 | F6: 1 | G6: การประยุกต์การใช้โปรแกรม | I6: ศูนย์การอบรมและ | J6: 4500 | K6: - ปรับเปลี่ยนหลักสูตร
G7: ETABS (v.18) | I7: สัมมนาทางวิศวกรรม | K7: - ปรับเปลี่ยนวงเงิน
I8: TumCivil.com
I9: Traning Center
B10: รวมเป็นเงิน | E10: =E6 -> 16800 | F10: 2 | G10: การออกแบบระบบรักษาความ | I10: สมาคมวิศวกร | J10: =3424*2 -> 6848 | K10: - ปรับเปลี่ยนหลักสูตร
G11: ปลอดภัย-ระบบกล้องโทรทัศน์ | I11: ทีปรึกษาเครื่องกล | K11: - ปรับเปลี่ยนวงเงิน
G12: วงจรปิด (CCTV System Design) | I12: และไฟฟ้าไทย
F14: 3 | G14: การออกแบบและการเลือกใช้และ | I14: สถาบันวิศวพัฒน์ | J14: 3000 | K14: - ปรับเปลี่ยนหลักสูตร
G15: การบำรุงรักษาเครื่องสูบส่งน้ำ | I15: วิศวกรรมสถานแห่ง | K15: - ปรับเปลี่ยนวงเงิน
G16: ในระบบบำบัดน้ำเสีย | I16: ประเทศไทย
I17: ในพระบรมราชูปถัมภ์
I18: (วสท.)
F20: 4 | G20: คอร์ส Basic Graphic พื้นฐาน | I20: บริษัท แพนด้าดีไซน์ | J20: 5690 | K20: - ปรับเปลี่ยนหลักสูตร
G21: เบื้องต้น | I21: สตูดิโอ จำกัด | K21: - ปรับเปลี่ยนวงเงิน
F23: 5 | G23: การใช้งาน Excel ระดับสูง Excel | I23: ศูนย์อบรมคอมพิวเตอร์ | J23: 7500 | K23: - ปรับเปลี่ยนหลักสูตร
G24: VBA และ Macro | I24: ไอทีเอคซะเล้นท์ | K24: - ปรับเปลี่ยนวงเงิน
A26: ผนวก ก
A27: การปรับแต่งหลักสูตรตามโครงศึกษาและอบรมข้าราชการตามสถานศึกษาในประเทศ นอก ทร. ประจำปี งป.๖๓ ของ ชย.ทร. ครั้งที่ ๒
A28: รายละเอียดโครงการศึกษา ฯ ที่ปรับเปลี่ยนครั้ง ๑ | F28: รายละเอียดโครงการศึกษา ฯ ที่ปรับเปลี่ยนครั้ง ๒ | K28: หมายเหตุ
A29: ลำดับ | B29: หลักสูตร | D29: หน่วยเปิด | E29: วงเงิน | F29: ลำดับ | G29: หลักสูตร | I29: หน่วยเปิด | J29: วงเงิน
D30: หลักสูตร | I30: หลักสูตร
F31: 6 | G31: โครงการอบรมหลักสูตรผู้เชี่ยวชาญ | I31: สถาบันอาคารเขียวไทย | J31: =5350*3 -> 16050 | K31: - ปรับเปลี่ยนหลักสูตร
G32: อาคารเขียว TREES EB รุ่นที่ ๖ | K32: - ปรับเปลี่ยนวงเงิน
F34: 7 | G34: การอบรมเรื่อง มาตรฐานการ | I34: วิศวกรรมสถานแห่ง | J34: =3500*2 -> 7000 | K34: - ปรับเปลี่ยนหลักสูตร
G35: ป้องกันฟ้าผ่า(ภายนอกและภายใน) | I35: ประเทศไทย | K35: - ปรับเปลี่ยนวงเงิน
G36: รุ่นที่ ๒ | I36: ในพระบรมราชูปถัมภ์
I37: (วสท.)
F39: 8 | G39: การออกแบบอาคารโรงงาน | I39: สถาบันวิศวพัฒน์ | J39: =9000*2 -> 18000 | K39: - ปรับเปลี่ยนหลักสูตร
G40: โครงสร้างเหล็ก ระบบ Rigid | I40: วิศวกรรมสถานแห่ง | K40: - ปรับเปลี่ยนวงเงิน
G41: Frame ขั้นพื้นฐาน รุ่นที่ ๕ | I41: ประเทศไทย
I42: ในพระบรมราชูปถัมภ์
I43: (วสท.)
F45: 9 | G45: พัฒนาเว็บไซต์แบบมืออาชีพด้วย | I45: ศูนย์อบรมคอมพิวเตอร์ | J45: =7500*3 -> 22500 | K45: - ปรับเปลี่ยนหลักสูตร
G46: PHP พร้อมติดต่อ ฐานข้อมูล | I46: ไอทีเอคซะเล้นท์ | K46: - ปรับเปลี่ยนวงเงิน
G47: MySQL | K47: - ปรับเปลี่ยนชั้นยศของ
...

Sheet Sheet2

Sheet Sheet3
